BEGIN:VCALENDAR
VERSION:2.0
PRODID:-//DIOCESI DI ROMA - ECPv4.6.14.1//NONSGML v1.0//EN
CALSCALE:GREGORIAN
METHOD:PUBLISH
X-WR-CALNAME:DIOCESI DI ROMA
X-ORIGINAL-URL:https://www.diocesidiroma.it
X-WR-CALDESC:Eventi per DIOCESI DI ROMA
BEGIN:VEVENT
DTSTART;TZID=Europe/Rome:20250607T093000
DTEND;TZID=Europe/Rome:20250607T093000
DTSTAMP:20260424T141501
CREATED:20250530T091941Z
LAST-MODIFIED:20250530T091941Z
UID:35902-1749288600-1749288600@www.diocesidiroma.it
SUMMARY:Santa Messa presso il Carcere di Rebibbia Nuovo Complesso
DESCRIPTION:Santa Messa presso il Carcere di Rebibbia Nuovo Complesso \n
URL:https://www.diocesidiroma.it/event/santa-messa-presso-il-carcere-di-rebibbia-nuovo-complesso/
CATEGORIES:Vicario Generale
END:VEVENT
END:VCALENDAR