BEGIN:VCALENDAR
VERSION:2.0
PRODID:-//DIOCESI DI ROMA - ECPv4.6.14.1//NONSGML v1.0//EN
CALSCALE:GREGORIAN
METHOD:PUBLISH
X-WR-CALNAME:DIOCESI DI ROMA
X-ORIGINAL-URL:https://www.diocesidiroma.it
X-WR-CALDESC:Eventi per DIOCESI DI ROMA
BEGIN:VEVENT
DTSTART;TZID=Europe/Rome:20260305T080000
DTEND;TZID=Europe/Rome:20260305T080000
DTSTAMP:20260421T034737
CREATED:20260226T105933Z
LAST-MODIFIED:20260226T105933Z
UID:40213-1772697600-1772697600@www.diocesidiroma.it
SUMMARY:Santa Messa presso il Policlinico Gemelli
DESCRIPTION:Santa Messa presso il Policlinico Gemelli \n
URL:https://www.diocesidiroma.it/event/santa-messa-presso-il-policlinico-gemelli/
CATEGORIES:Vicario Generale
END:VEVENT
END:VCALENDAR