BEGIN:VCALENDAR
VERSION:2.0
PRODID:-//DIOCESI DI ROMA - ECPv4.6.14.1//NONSGML v1.0//EN
CALSCALE:GREGORIAN
METHOD:PUBLISH
X-WR-CALNAME:DIOCESI DI ROMA
X-ORIGINAL-URL:https://www.diocesidiroma.it
X-WR-CALDESC:Eventi per DIOCESI DI ROMA
BEGIN:VEVENT
DTSTART;TZID=Europe/Rome:20260103T173000
DTEND;TZID=Europe/Rome:20260103T173000
DTSTAMP:20260422T001633
CREATED:20251227T090116Z
LAST-MODIFIED:20251227T090231Z
UID:39259-1767461400-1767461400@www.diocesidiroma.it
SUMMARY:Santa Messa presso la basilica di San Giovanni in Laterano – Celebrazione per i 200 anni dal riconoscimento pontificio delle Suore Ospedaliere della Misericordia
DESCRIPTION:Santa Messa presso la basilica di San Giovanni in Laterano – Celebrazione per i 200 anni dal riconoscimento pontificio delle Suore Ospedaliere della Misericordia \n
URL:https://www.diocesidiroma.it/event/santa-messa-presso-la-basilica-di-san-giovanni-in-laterano-celebrazione-per-i-200-anni-dal-riconoscimento-pontificio-delle-suore-ospedaliere-della-misericordia/
CATEGORIES:Vicario Generale
END:VEVENT
END:VCALENDAR