BEGIN:VCALENDAR
VERSION:2.0
PRODID:-//DIOCESI DI ROMA - ECPv4.6.14.1//NONSGML v1.0//EN
CALSCALE:GREGORIAN
METHOD:PUBLISH
X-WR-CALNAME:DIOCESI DI ROMA
X-ORIGINAL-URL:https://www.diocesidiroma.it
X-WR-CALDESC:Eventi per DIOCESI DI ROMA
BEGIN:VEVENT
DTSTART;TZID=Europe/Rome:20260412T190000
DTEND;TZID=Europe/Rome:20260412T190000
DTSTAMP:20260421T084004
CREATED:20260330T065029Z
LAST-MODIFIED:20260330T070708Z
UID:40761-1776020400-1776020400@www.diocesidiroma.it
SUMMARY:Santa Messa presso la chiesa di Santo Spirito in Sassia
DESCRIPTION:Santa Messa presso la chiesa di Santo Spirito in Sassia \n
URL:https://www.diocesidiroma.it/event/santa-messa-presso-la-chiesa-di-santo-spirito-in-sassia/
CATEGORIES:Vicario Generale
END:VEVENT
END:VCALENDAR