BEGIN:VCALENDAR
VERSION:2.0
PRODID:-//DIOCESI DI ROMA - ECPv4.6.14.1//NONSGML v1.0//EN
CALSCALE:GREGORIAN
METHOD:PUBLISH
X-WR-CALNAME:DIOCESI DI ROMA
X-ORIGINAL-URL:https://www.diocesidiroma.it
X-WR-CALDESC:Eventi per DIOCESI DI ROMA
BEGIN:VEVENT
DTSTART;TZID=Europe/Rome:20251129T160000
DTEND;TZID=Europe/Rome:20251129T160000
DTSTAMP:20260422T111329
CREATED:20251119T150737Z
LAST-MODIFIED:20251119T150737Z
UID:38699-1764432000-1764432000@www.diocesidiroma.it
SUMMARY:Santa Messa presso la parrocchia Regina Apostolorum
DESCRIPTION:Santa Messa presso la parrocchia Regina Apostolorum  \n
URL:https://www.diocesidiroma.it/event/santa-messa-presso-la-parrocchia-regina-apostolorum/
CATEGORIES:Vicario Generale
END:VEVENT
END:VCALENDAR