BEGIN:VCALENDAR
VERSION:2.0
PRODID:-//DIOCESI DI ROMA - ECPv4.6.14.1//NONSGML v1.0//EN
CALSCALE:GREGORIAN
METHOD:PUBLISH
X-WR-CALNAME:DIOCESI DI ROMA
X-ORIGINAL-URL:https://www.diocesidiroma.it
X-WR-CALDESC:Eventi per DIOCESI DI ROMA
BEGIN:VEVENT
DTSTART;TZID=Europe/Rome:20250628T183000
DTEND;TZID=Europe/Rome:20250628T183000
DTSTAMP:20260421T192504
CREATED:20250620T083526Z
LAST-MODIFIED:20250620T083526Z
UID:36187-1751135400-1751135400@www.diocesidiroma.it
SUMMARY:Santa Messa presso la parrocchia Sacro Cuore Immacolato di Maria ai Parioli
DESCRIPTION:Santa Messa presso la parrocchia Sacro Cuore Immacolato di Maria ai Parioli \n
URL:https://www.diocesidiroma.it/event/santa-messa-presso-la-parrocchia-sacro-cuore-immacolato-di-maria-ai-parioli/
CATEGORIES:Vicario Generale
END:VEVENT
END:VCALENDAR