BEGIN:VCALENDAR
VERSION:2.0
PRODID:-//DIOCESI DI ROMA - ECPv4.6.14.1//NONSGML v1.0//EN
CALSCALE:GREGORIAN
METHOD:PUBLISH
X-WR-CALNAME:DIOCESI DI ROMA
X-ORIGINAL-URL:https://www.diocesidiroma.it
X-WR-CALDESC:Eventi per DIOCESI DI ROMA
BEGIN:VEVENT
DTSTART;TZID=Europe/Rome:20260201T180000
DTEND;TZID=Europe/Rome:20260201T180000
DTSTAMP:20260421T002456
CREATED:20260123T101228Z
LAST-MODIFIED:20260123T101228Z
UID:39627-1769968800-1769968800@www.diocesidiroma.it
SUMMARY:Santa Messa presso la parrocchia San Cipriano
DESCRIPTION:Santa Messa presso la parrocchia San Cipriano \n
URL:https://www.diocesidiroma.it/event/santa-messa-presso-la-parrocchia-san-cipriano/
CATEGORIES:Vicario Generale
END:VEVENT
END:VCALENDAR