BEGIN:VCALENDAR
VERSION:2.0
PRODID:-//DIOCESI DI ROMA - ECPv4.6.14.1//NONSGML v1.0//EN
CALSCALE:GREGORIAN
METHOD:PUBLISH
X-WR-CALNAME:DIOCESI DI ROMA
X-ORIGINAL-URL:https://www.diocesidiroma.it
X-WR-CALDESC:Eventi per DIOCESI DI ROMA
BEGIN:VEVENT
DTSTART;TZID=Europe/Rome:20260418T183000
DTEND;TZID=Europe/Rome:20260418T183000
DTSTAMP:20260421T070534
CREATED:20260330T070304Z
LAST-MODIFIED:20260330T070314Z
UID:40785-1776537000-1776537000@www.diocesidiroma.it
SUMMARY:Santa Messa presso la parrocchia San Cleto
DESCRIPTION:Santa Messa presso la parrocchia San Cleto \n
URL:https://www.diocesidiroma.it/event/santa-messa-presso-la-parrocchia-san-cleto/
CATEGORIES:Vicario Generale
END:VEVENT
END:VCALENDAR