BEGIN:VCALENDAR
VERSION:2.0
PRODID:-//DIOCESI DI ROMA - ECPv4.6.14.1//NONSGML v1.0//EN
CALSCALE:GREGORIAN
METHOD:PUBLISH
X-WR-CALNAME:DIOCESI DI ROMA
X-ORIGINAL-URL:https://www.diocesidiroma.it
X-WR-CALDESC:Eventi per DIOCESI DI ROMA
BEGIN:VEVENT
DTSTART;TZID=Europe/Rome:20260208T180000
DTEND;TZID=Europe/Rome:20260208T180000
DTSTAMP:20260423T113052
CREATED:20260129T115917Z
LAST-MODIFIED:20260129T115917Z
UID:39728-1770573600-1770573600@www.diocesidiroma.it
SUMMARY:Santa Messa presso la parrocchia San Girolamo Emiliani
DESCRIPTION:Santa Messa presso la parrocchia San Girolamo Emiliani \n
URL:https://www.diocesidiroma.it/event/santa-messa-presso-la-parrocchia-san-girolamo-emiliani/
CATEGORIES:Vicario Generale
END:VEVENT
END:VCALENDAR