BEGIN:VCALENDAR
VERSION:2.0
PRODID:-//DIOCESI DI ROMA - ECPv4.6.14.1//NONSGML v1.0//EN
CALSCALE:GREGORIAN
METHOD:PUBLISH
X-WR-CALNAME:DIOCESI DI ROMA
X-ORIGINAL-URL:https://www.diocesidiroma.it
X-WR-CALDESC:Eventi per DIOCESI DI ROMA
BEGIN:VEVENT
DTSTART;TZID=Europe/Rome:20260130T183000
DTEND;TZID=Europe/Rome:20260130T183000
DTSTAMP:20260421T223317
CREATED:20260123T100935Z
LAST-MODIFIED:20260123T100935Z
UID:39619-1769797800-1769797800@www.diocesidiroma.it
SUMMARY:Santa Messa presso la parrocchia San Giuseppe da Copertino
DESCRIPTION:Santa Messa presso la parrocchia San Giuseppe da Copertino \n
URL:https://www.diocesidiroma.it/event/santa-messa-presso-la-parrocchia-san-giuseppe-da-copertino/
CATEGORIES:Vicario Generale
END:VEVENT
END:VCALENDAR