BEGIN:VCALENDAR
VERSION:2.0
PRODID:-//DIOCESI DI ROMA - ECPv4.6.14.1//NONSGML v1.0//EN
CALSCALE:GREGORIAN
METHOD:PUBLISH
X-WR-CALNAME:DIOCESI DI ROMA
X-ORIGINAL-URL:https://www.diocesidiroma.it
X-WR-CALDESC:Eventi per DIOCESI DI ROMA
BEGIN:VEVENT
DTSTART;TZID=Europe/Rome:20260417T190000
DTEND;TZID=Europe/Rome:20260417T190000
DTSTAMP:20260421T034907
CREATED:20260330T070153Z
LAST-MODIFIED:20260410T064537Z
UID:40783-1776452400-1776452400@www.diocesidiroma.it
SUMMARY:Presenta l’ Esortazione Apostolica Dilexi Te del Santo Padre Leone XIV al convegno organizzato da Fondazione Roma Europea
DESCRIPTION:Presenta l’ Esortazione Apostolica Dilexi Te del Santo Padre Leone XIV al convegno organizzato da Fondazione Roma Europea \n
URL:https://www.diocesidiroma.it/event/santa-messa-presso-la-parrocchia-san-pio-x-a-seguire-relaziona-al-convegno-organizzato-da-fondazione-roma-europea-sull-esortazione-apostolica-dilexi-te-del-santo-padre-leone-xiv/
CATEGORIES:Vicario Generale
END:VEVENT
END:VCALENDAR