BEGIN:VCALENDAR
VERSION:2.0
PRODID:-//DIOCESI DI ROMA - ECPv4.6.14.1//NONSGML v1.0//EN
CALSCALE:GREGORIAN
METHOD:PUBLISH
X-WR-CALNAME:DIOCESI DI ROMA
X-ORIGINAL-URL:https://www.diocesidiroma.it
X-WR-CALDESC:Eventi per DIOCESI DI ROMA
BEGIN:VEVENT
DTSTART;TZID=Europe/Rome:20250608T190000
DTEND;TZID=Europe/Rome:20250608T190000
DTSTAMP:20260424T121447
CREATED:20250530T092345Z
LAST-MODIFIED:20250530T092345Z
UID:35910-1749409200-1749409200@www.diocesidiroma.it
SUMMARY:Santa Messa presso la parrocchia San Pio X
DESCRIPTION:Santa Messa presso la parrocchia San Pio X \n
URL:https://www.diocesidiroma.it/event/santa-messa-presso-la-parrocchia-san-pio-x/
CATEGORIES:Vicario Generale
END:VEVENT
END:VCALENDAR