BEGIN:VCALENDAR
VERSION:2.0
PRODID:-//DIOCESI DI ROMA - ECPv4.6.14.1//NONSGML v1.0//EN
CALSCALE:GREGORIAN
METHOD:PUBLISH
X-WR-CALNAME:DIOCESI DI ROMA
X-ORIGINAL-URL:https://www.diocesidiroma.it
X-WR-CALDESC:Eventi per DIOCESI DI ROMA
BEGIN:VEVENT
DTSTART;TZID=Europe/Rome:20260317T183000
DTEND;TZID=Europe/Rome:20260317T183000
DTSTAMP:20260421T070742
CREATED:20260311T150233Z
LAST-MODIFIED:20260311T150233Z
UID:40457-1773772200-1773772200@www.diocesidiroma.it
SUMMARY:Santa Messa presso la parrocchia Santa Maria Addolorata in occasione del XXV anniversario della dedicazione
DESCRIPTION:Santa Messa presso la parrocchia Santa Maria Addolorata in occasione del XXV anniversario della dedicazione \n
URL:https://www.diocesidiroma.it/event/santa-messa-presso-la-parrocchia-santa-maria-addolorata-in-occasione-del-xxv-anniversario-della-dedicazione/
CATEGORIES:Vicario Generale
END:VEVENT
END:VCALENDAR