BEGIN:VCALENDAR
VERSION:2.0
PRODID:-//DIOCESI DI ROMA - ECPv4.6.14.1//NONSGML v1.0//EN
CALSCALE:GREGORIAN
METHOD:PUBLISH
X-WR-CALNAME:DIOCESI DI ROMA
X-ORIGINAL-URL:https://www.diocesidiroma.it
X-WR-CALDESC:Eventi per DIOCESI DI ROMA
BEGIN:VEVENT
DTSTART;TZID=Europe/Rome:20260416T180000
DTEND;TZID=Europe/Rome:20260416T180000
DTSTAMP:20260421T070744
CREATED:20260410T064127Z
LAST-MODIFIED:20260410T064136Z
UID:40858-1776362400-1776362400@www.diocesidiroma.it
SUMMARY:Santa Messa presso la parrocchia Santa Maria Immacolata di Lourdes
DESCRIPTION:Santa Messa presso la parrocchia Santa Maria Immacolata di Lourdes \n
URL:https://www.diocesidiroma.it/event/santa-messa-presso-la-parrocchia-santa-maria-immacolata-di-lourdes/
CATEGORIES:Vicario Generale
END:VEVENT
END:VCALENDAR