BEGIN:VCALENDAR
VERSION:2.0
PRODID:-//DIOCESI DI ROMA - ECPv4.6.14.1//NONSGML v1.0//EN
CALSCALE:GREGORIAN
METHOD:PUBLISH
X-WR-CALNAME:DIOCESI DI ROMA
X-ORIGINAL-URL:https://www.diocesidiroma.it
X-WR-CALDESC:Eventi per DIOCESI DI ROMA
BEGIN:VEVENT
DTSTART;TZID=Europe/Rome:20260315T113000
DTEND;TZID=Europe/Rome:20260315T113000
DTSTAMP:20260421T085243
CREATED:20260305T115622Z
LAST-MODIFIED:20260305T115622Z
UID:40355-1773574200-1773574200@www.diocesidiroma.it
SUMMARY:Santa Messa presso la parrocchia Santa Maria Madre della Misericordia
DESCRIPTION:Santa Messa presso la parrocchia Santa Maria Madre della Misericordia \n
URL:https://www.diocesidiroma.it/event/santa-messa-presso-la-parrocchia-santa-maria-madre-della-misericordia/
CATEGORIES:Vicario Generale
END:VEVENT
END:VCALENDAR