BEGIN:VCALENDAR
VERSION:2.0
PRODID:-//DIOCESI DI ROMA - ECPv4.6.14.1//NONSGML v1.0//EN
CALSCALE:GREGORIAN
METHOD:PUBLISH
X-WR-CALNAME:DIOCESI DI ROMA
X-ORIGINAL-URL:https://www.diocesidiroma.it
X-WR-CALDESC:Eventi per DIOCESI DI ROMA
BEGIN:VEVENT
DTSTART;TZID=Europe/Rome:20250601T113000
DTEND;TZID=Europe/Rome:20250601T113000
DTSTAMP:20260422T111104
CREATED:20250523T092331Z
LAST-MODIFIED:20250523T092331Z
UID:35802-1748777400-1748777400@www.diocesidiroma.it
SUMMARY:Santa Messa presso la parrocchia Sant'Alessio
DESCRIPTION:Santa Messa presso la parrocchia Sant’Alessio  \n
URL:https://www.diocesidiroma.it/event/santa-messa-presso-la-parrocchia-santalessio/
CATEGORIES:Vicario Generale
END:VEVENT
END:VCALENDAR