BEGIN:VCALENDAR
VERSION:2.0
PRODID:-//DIOCESI DI ROMA - ECPv4.6.14.1//NONSGML v1.0//EN
CALSCALE:GREGORIAN
METHOD:PUBLISH
X-WR-CALNAME:DIOCESI DI ROMA
X-ORIGINAL-URL:https://www.diocesidiroma.it
X-WR-CALDESC:Eventi per DIOCESI DI ROMA
BEGIN:VEVENT
DTSTART;TZID=Europe/Rome:20250608T103000
DTEND;TZID=Europe/Rome:20250608T103000
DTSTAMP:20260424T112924
CREATED:20250530T092306Z
LAST-MODIFIED:20250530T092306Z
UID:35908-1749378600-1749378600@www.diocesidiroma.it
SUMMARY:Santa Messa presso la parrocchia Sant'Eugenio con cresime
DESCRIPTION:Santa Messa presso la parrocchia Sant’Eugenio con cresime \n
URL:https://www.diocesidiroma.it/event/santa-messa-presso-la-parrocchia-santeugenio-con-cresime/
CATEGORIES:Vicario Generale
END:VEVENT
END:VCALENDAR