BEGIN:VCALENDAR
VERSION:2.0
PRODID:-//DIOCESI DI ROMA - ECPv4.6.14.1//NONSGML v1.0//EN
CALSCALE:GREGORIAN
METHOD:PUBLISH
X-WR-CALNAME:DIOCESI DI ROMA
X-ORIGINAL-URL:https://www.diocesidiroma.it
X-WR-CALDESC:Eventi per DIOCESI DI ROMA
BEGIN:VEVENT
DTSTART;TZID=Europe/Rome:20260425T190000
DTEND;TZID=Europe/Rome:20260425T190000
DTSTAMP:20260421T085131
CREATED:20260416T111838Z
LAST-MODIFIED:20260416T111838Z
UID:40966-1777143600-1777143600@www.diocesidiroma.it
SUMMARY:Santa Messa presso la parrocchia Santi Martiri dell'Uganda
DESCRIPTION:Santa Messa presso la parrocchia Santi Martiri dell’Uganda   \n
URL:https://www.diocesidiroma.it/event/santa-messa-presso-la-parrocchia-santi-martiri-delluganda/
CATEGORIES:Vicario Generale
END:VEVENT
END:VCALENDAR