BEGIN:VCALENDAR
VERSION:2.0
PRODID:-//DIOCESI DI ROMA - ECPv4.6.14.1//NONSGML v1.0//EN
CALSCALE:GREGORIAN
METHOD:PUBLISH
X-WR-CALNAME:DIOCESI DI ROMA
X-ORIGINAL-URL:https://www.diocesidiroma.it
X-WR-CALDESC:Eventi per DIOCESI DI ROMA
BEGIN:VEVENT
DTSTART;TZID=Europe/Rome:20251218T123000
DTEND;TZID=Europe/Rome:20251218T133000
DTSTAMP:20260423T180119
CREATED:20251212T134323Z
LAST-MODIFIED:20251212T134323Z
UID:39065-1766061000-1766064600@www.diocesidiroma.it
SUMMARY:Santa Messa presso la Regione Lazio
DESCRIPTION:Santa Messa presso la Regione Lazio \n
URL:https://www.diocesidiroma.it/event/santa-messa-presso-la-regione-lazio/
CATEGORIES:Vicario Generale
END:VEVENT
END:VCALENDAR