BEGIN:VCALENDAR
VERSION:2.0
PRODID:-//DIOCESI DI ROMA - ECPv4.6.14.1//NONSGML v1.0//EN
CALSCALE:GREGORIAN
METHOD:PUBLISH
X-WR-CALNAME:DIOCESI DI ROMA
X-ORIGINAL-URL:https://www.diocesidiroma.it
X-WR-CALDESC:Eventi per DIOCESI DI ROMA
BEGIN:VEVENT
DTSTART;TZID=Europe/Rome:20250924T183000
DTEND;TZID=Europe/Rome:20250924T183000
DTSTAMP:20260422T112741
CREATED:20250919T071323Z
LAST-MODIFIED:20250919T071323Z
UID:37265-1758738600-1758738600@www.diocesidiroma.it
SUMMARY:Santa Messa presso le Salesiane missionarie
DESCRIPTION:Santa Messa presso le Salesiane missionarie  \n
URL:https://www.diocesidiroma.it/event/santa-messa-presso-le-salesiane-missionarie/
CATEGORIES:Vicario Generale
END:VEVENT
END:VCALENDAR