BEGIN:VCALENDAR
VERSION:2.0
PRODID:-//DIOCESI DI ROMA - ECPv4.6.14.1//NONSGML v1.0//EN
CALSCALE:GREGORIAN
METHOD:PUBLISH
X-WR-CALNAME:DIOCESI DI ROMA
X-ORIGINAL-URL:https://www.diocesidiroma.it
X-WR-CALDESC:Eventi per DIOCESI DI ROMA
BEGIN:VEVENT
DTSTART;TZID=Europe/Rome:20260208T080000
DTEND;TZID=Europe/Rome:20260208T080000
DTSTAMP:20260421T053216
CREATED:20260129T115745Z
LAST-MODIFIED:20260129T115745Z
UID:39724-1770537600-1770537600@www.diocesidiroma.it
SUMMARY:Santa Messa presso l'Istituto Figlie di Maria Ausiliatrice
DESCRIPTION:Santa Messa presso l’Istituto Figlie di Maria Ausiliatrice \n
URL:https://www.diocesidiroma.it/event/santa-messa-presso-listituto-figlie-di-maria-ausiliatrice/
CATEGORIES:Vicario Generale
END:VEVENT
END:VCALENDAR