BEGIN:VCALENDAR
VERSION:2.0
PRODID:-//DIOCESI DI ROMA - ECPv4.6.14.1//NONSGML v1.0//EN
CALSCALE:GREGORIAN
METHOD:PUBLISH
X-WR-CALNAME:DIOCESI DI ROMA
X-ORIGINAL-URL:https://www.diocesidiroma.it
X-WR-CALDESC:Eventi per DIOCESI DI ROMA
BEGIN:VEVENT
DTSTART;TZID=Europe/Rome:20260125T083000
DTEND;TZID=Europe/Rome:20260125T083000
DTSTAMP:20260424T020440
CREATED:20260116T100909Z
LAST-MODIFIED:20260116T100909Z
UID:39520-1769329800-1769329800@www.diocesidiroma.it
SUMMARY:Santa Messa presso San Giovanni Battista dei Fiorentini e Carovana della Pace organizzata dall’Azione Cattolica fino a piazza San Pietro
DESCRIPTION:Santa Messa presso San Giovanni Battista dei Fiorentini e Carovana della Pace organizzata dall’Azione Cattolica fino a piazza San Pietro  \n
URL:https://www.diocesidiroma.it/event/santa-messa-presso-san-giovanni-battista-dei-fiorentini-e-carovana-della-pace-organizzata-dallazione-cattolica-fino-a-piazza-san-pietro/
CATEGORIES:Vicario Generale
END:VEVENT
END:VCALENDAR