BEGIN:VCALENDAR
VERSION:2.0
PRODID:-//DIOCESI DI ROMA - ECPv4.6.14.1//NONSGML v1.0//EN
CALSCALE:GREGORIAN
METHOD:PUBLISH
X-WR-CALNAME:DIOCESI DI ROMA
X-ORIGINAL-URL:https://www.diocesidiroma.it
X-WR-CALDESC:Eventi per DIOCESI DI ROMA
BEGIN:VEVENT
DTSTART;TZID=Europe/Rome:20200210T000000
DTEND;TZID=Europe/Rome:20200210T000000
DTSTAMP:20260421T174808
CREATED:20190925T142814Z
LAST-MODIFIED:20190925T142814Z
UID:8730-1581292800-1581292800@www.diocesidiroma.it
SUMMARY:"Santi per la città". settimana residenziale per i sacerdoti dal 6° al 10° anno di ordinazione a Torino
DESCRIPTION:“Santi per la città”. settimana residenziale per i sacerdoti dal 6° al 10° anno di ordinazione a Torino. \n
URL:https://www.diocesidiroma.it/event/santi-per-la-citta-settimana-residenziale-per-i-sacerdoti-dal-6-al-10-anno-di-ordinazione-a-torino/
CATEGORIES:In Diocesi
END:VEVENT
END:VCALENDAR