BEGIN:VCALENDAR
VERSION:2.0
PRODID:-//DIOCESI DI ROMA - ECPv4.6.14.1//NONSGML v1.0//EN
CALSCALE:GREGORIAN
METHOD:PUBLISH
X-WR-CALNAME:DIOCESI DI ROMA
X-ORIGINAL-URL:https://www.diocesidiroma.it
X-WR-CALDESC:Eventi per DIOCESI DI ROMA
BEGIN:VEVENT
DTSTART;TZID=Europe/Rome:20190629T000000
DTEND;TZID=Europe/Rome:20190629T000000
DTSTAMP:20260422T185514
CREATED:20181023T134202Z
LAST-MODIFIED:20181023T134202Z
UID:5307-1561766400-1561766400@www.diocesidiroma.it
SUMMARY:Santi Pietro e Paolo
DESCRIPTION:Santi Pietro e Paolo. \n
URL:https://www.diocesidiroma.it/event/santi-pietro-e-paolo-2/
CATEGORIES:Ricorrenze
END:VEVENT
END:VCALENDAR