BEGIN:VCALENDAR
VERSION:2.0
PRODID:-//DIOCESI DI ROMA - ECPv4.6.14.1//NONSGML v1.0//EN
CALSCALE:GREGORIAN
METHOD:PUBLISH
X-WR-CALNAME:DIOCESI DI ROMA
X-ORIGINAL-URL:https://www.diocesidiroma.it
X-WR-CALDESC:Eventi per DIOCESI DI ROMA
BEGIN:VEVENT
DTSTART;TZID=Europe/Rome:20190623T000000
DTEND;TZID=Europe/Rome:20190623T000000
DTSTAMP:20260421T024844
CREATED:20181023T133915Z
LAST-MODIFIED:20181023T133915Z
UID:5299-1561248000-1561248000@www.diocesidiroma.it
SUMMARY:Santissimo Corpo e Sangue di Cristo
DESCRIPTION:Santissimo Corpo e Sangue di Cristo. \n
URL:https://www.diocesidiroma.it/event/santissimo-corpo-e-sangue-di-cristo/
CATEGORIES:Ricorrenze
END:VEVENT
END:VCALENDAR