BEGIN:VCALENDAR
VERSION:2.0
PRODID:-//DIOCESI DI ROMA - ECPv4.6.14.1//NONSGML v1.0//EN
CALSCALE:GREGORIAN
METHOD:PUBLISH
X-WR-CALNAME:DIOCESI DI ROMA
X-ORIGINAL-URL:https://www.diocesidiroma.it
X-WR-CALDESC:Eventi per DIOCESI DI ROMA
BEGIN:VEVENT
DTSTART;TZID=Europe/Rome:20181226T000000
DTEND;TZID=Europe/Rome:20181226T000000
DTSTAMP:20260423T135106
CREATED:20180918T125438Z
LAST-MODIFIED:20180918T125438Z
UID:4679-1545782400-1545782400@www.diocesidiroma.it
SUMMARY:Santo Stefano
DESCRIPTION:Santo Stefano \n
URL:https://www.diocesidiroma.it/event/santo-stefano-2/
CATEGORIES:Ricorrenze
END:VEVENT
END:VCALENDAR