BEGIN:VCALENDAR
VERSION:2.0
PRODID:-//DIOCESI DI ROMA - ECPv4.6.14.1//NONSGML v1.0//EN
CALSCALE:GREGORIAN
METHOD:PUBLISH
X-WR-CALNAME:DIOCESI DI ROMA
X-ORIGINAL-URL:https://www.diocesidiroma.it
X-WR-CALDESC:Eventi per DIOCESI DI ROMA
BEGIN:VEVENT
DTSTART;TZID=Europe/Rome:20250308T000000
DTEND;TZID=Europe/Rome:20250308T000000
DTSTAMP:20260424T210256
CREATED:20250102T085350Z
LAST-MODIFIED:20250102T085350Z
UID:32956-1741392000-1741392000@www.diocesidiroma.it
SUMMARY:"Scripta manent - Alla scoperta della scrittura nella Chiesa" (Sez. tempo libero\, turismo e sport)
DESCRIPTION:“Scripta manent – Alla scoperta della scrittura nella Chiesa” (Sez. tempo libero\, turismo e sport) \n
URL:https://www.diocesidiroma.it/event/scripta-manent-alla-scoperta-della-scrittura-nella-chiesa-sez-tempo-libero-turismo-e-sport/
CATEGORIES:In Diocesi,Iniziative degli Uffici
END:VEVENT
END:VCALENDAR