BEGIN:VCALENDAR
VERSION:2.0
PRODID:-//DIOCESI DI ROMA - ECPv4.6.14.1//NONSGML v1.0//EN
CALSCALE:GREGORIAN
METHOD:PUBLISH
X-WR-CALNAME:DIOCESI DI ROMA
X-ORIGINAL-URL:https://www.diocesidiroma.it
X-WR-CALDESC:Eventi per DIOCESI DI ROMA
BEGIN:VEVENT
DTSTART;TZID=Europe/Rome:20200307T160000
DTEND;TZID=Europe/Rome:20200307T190000
DTSTAMP:20260421T093700
CREATED:20190925T151025Z
LAST-MODIFIED:20190925T151025Z
UID:8784-1583596800-1583607600@www.diocesidiroma.it
SUMMARY:Scuola di preghiera "Credo nello Spirito Santo"
DESCRIPTION:Scuola di preghiera “Credo nello Spirito Santo” al Pontificio Seminario Romano Maggiore\, a cura dell’Ufficio catechistico. \n
URL:https://www.diocesidiroma.it/event/scuola-di-preghiera-credo-nello-spirito-santo/
CATEGORIES:Iniziative degli Uffici
END:VEVENT
END:VCALENDAR