BEGIN:VCALENDAR
VERSION:2.0
PRODID:-//DIOCESI DI ROMA - ECPv4.6.14.1//NONSGML v1.0//EN
CALSCALE:GREGORIAN
METHOD:PUBLISH
X-WR-CALNAME:DIOCESI DI ROMA
X-ORIGINAL-URL:https://www.diocesidiroma.it
X-WR-CALDESC:Eventi per DIOCESI DI ROMA
BEGIN:VEVENT
DTSTART;TZID=Europe/Rome:20240204T100000
DTEND;TZID=Europe/Rome:20240204T113000
DTSTAMP:20260422T161936
CREATED:20240131T090005Z
LAST-MODIFIED:20240131T090005Z
UID:28762-1707040800-1707046200@www.diocesidiroma.it
SUMMARY:Secondo Corso di formazione per i nuovi ministri straordinari della comunione - il sabato dalle ore 10.00 alle ore 11.30 fino al 29 aprile - Parrocchia San Giovanni Bosco (Uff. form. liturgica)
DESCRIPTION: Secondo Corso di formazione per i nuovi ministri straordinari della comunione – il sabato dalle ore 10.00 alle ore 11.30 fino al 29 aprile – Parrocchia San Giovanni Bosco (Uff. form. liturgica) \n
URL:https://www.diocesidiroma.it/event/secondo-corso-di-formazione-per-i-nuovi-ministri-straordinari-della-comunione-il-sabato-dalle-ore-10-00-alle-ore-11-30-fino-al-29-aprile-parrocchia-san-giovanni-bosco-uff-form-liturgica/
CATEGORIES:Iniziative degli Uffici
END:VEVENT
END:VCALENDAR