BEGIN:VCALENDAR
VERSION:2.0
PRODID:-//DIOCESI DI ROMA - ECPv4.6.14.1//NONSGML v1.0//EN
CALSCALE:GREGORIAN
METHOD:PUBLISH
X-WR-CALNAME:DIOCESI DI ROMA
X-ORIGINAL-URL:https://www.diocesidiroma.it
X-WR-CALDESC:Eventi per DIOCESI DI ROMA
BEGIN:VEVENT
DTSTART;TZID=Europe/Rome:20191123T000000
DTEND;TZID=Europe/Rome:20191123T000000
DTSTAMP:20260424T094659
CREATED:20191118T081329Z
LAST-MODIFIED:20191118T081329Z
UID:9289-1574467200-1574467200@www.diocesidiroma.it
SUMMARY:Seminario "Pelagio\, chi era costui? La salvezza di Cristo alla luce del documento Placuit Deo"
DESCRIPTION:Seminario “Pelagio\, chi era costui? La salvezza di Cristo alla luce del documento Placuit Deo”\, a cura dell’Ufficio per l’ecumenismo e il dialogo \n
URL:https://www.diocesidiroma.it/event/seminario-pelagio-chi-era-costui-la-salvezza-di-cristo-alla-luce-del-documento-placuit-deo-2/
CATEGORIES:Iniziative degli Uffici
END:VEVENT
END:VCALENDAR