BEGIN:VCALENDAR
VERSION:2.0
PRODID:-//DIOCESI DI ROMA - ECPv4.6.14.1//NONSGML v1.0//EN
CALSCALE:GREGORIAN
METHOD:PUBLISH
X-WR-CALNAME:DIOCESI DI ROMA
X-ORIGINAL-URL:https://www.diocesidiroma.it
X-WR-CALDESC:Eventi per DIOCESI DI ROMA
BEGIN:VEVENT
DTSTART;TZID=Europe/Rome:20241121T180000
DTEND;TZID=Europe/Rome:20241121T200000
DTSTAMP:20260425T104912
CREATED:20240823T075847Z
LAST-MODIFIED:20240823T075847Z
UID:30730-1732212000-1732219200@www.diocesidiroma.it
SUMMARY:Seminario sul tema della "Democrazia" - parrocchia Santa Maria ai Monti (Sala Sardelli) (Uff. past. sociale)
DESCRIPTION:Seminario sul tema della “Democrazia” – parrocchia Santa Maria ai Monti (Sala Sardelli) (Uff. past. sociale) \n
URL:https://www.diocesidiroma.it/event/seminario-sul-tema-della-democrazia-parrocchia-santa-maria-ai-monti-sala-sardelli-uff-past-sociale-3/
CATEGORIES:In Diocesi,Iniziative degli Uffici
END:VEVENT
END:VCALENDAR