BEGIN:VCALENDAR
VERSION:2.0
PRODID:-//DIOCESI DI ROMA - ECPv4.6.14.1//NONSGML v1.0//EN
CALSCALE:GREGORIAN
METHOD:PUBLISH
X-WR-CALNAME:DIOCESI DI ROMA
X-ORIGINAL-URL:https://www.diocesidiroma.it
X-WR-CALDESC:Eventi per DIOCESI DI ROMA
BEGIN:VEVENT
DTSTART;TZID=Europe/Rome:20250123T180000
DTEND;TZID=Europe/Rome:20250123T200000
DTSTAMP:20260423T012534
CREATED:20241118T094326Z
LAST-MODIFIED:20241118T094326Z
UID:32036-1737655200-1737662400@www.diocesidiroma.it
SUMMARY:Seminario sul tema dell'"Economia" - parrocchia Santa Maria ai Monti (Sala Sardelli) (Uff. past. sociale)
DESCRIPTION:Seminario sul tema dell'”Economia” – parrocchia Santa Maria ai Monti (Sala Sardelli) (Uff. past. sociale) \n
URL:https://www.diocesidiroma.it/event/seminario-sul-tema-delleconomia-parrocchia-santa-maria-ai-monti-sala-sardelli-uff-past-sociale-3/
CATEGORIES:In Diocesi,Iniziative degli Uffici
END:VEVENT
END:VCALENDAR