BEGIN:VCALENDAR
VERSION:2.0
PRODID:-//DIOCESI DI ROMA - ECPv4.6.14.1//NONSGML v1.0//EN
CALSCALE:GREGORIAN
METHOD:PUBLISH
X-WR-CALNAME:DIOCESI DI ROMA
X-ORIGINAL-URL:https://www.diocesidiroma.it
X-WR-CALDESC:Eventi per DIOCESI DI ROMA
BEGIN:VEVENT
DTSTART;VALUE=DATE:20171001
DTEND;VALUE=DATE:20171009
DTSTAMP:20260425T004824
CREATED:20171228T112420Z
LAST-MODIFIED:20171228T112420Z
UID:325-1506816000-1507507199@www.diocesidiroma.it
SUMMARY:Settimana della Famiglia
DESCRIPTION:
URL:https://www.diocesidiroma.it/event/settimana-della-famiglia/
CATEGORIES:Iniziative degli Uffici
END:VEVENT
END:VCALENDAR