BEGIN:VCALENDAR
VERSION:2.0
PRODID:-//DIOCESI DI ROMA - ECPv4.6.14.1//NONSGML v1.0//EN
CALSCALE:GREGORIAN
METHOD:PUBLISH
X-WR-CALNAME:DIOCESI DI ROMA
X-ORIGINAL-URL:https://www.diocesidiroma.it
X-WR-CALDESC:Eventi per DIOCESI DI ROMA
BEGIN:VEVENT
DTSTART;TZID=Europe/Rome:20190203T000000
DTEND;TZID=Europe/Rome:20190211T000000
DTSTAMP:20260425T002054
CREATED:20181010T065707Z
LAST-MODIFIED:20181010T065707Z
UID:4934-1549152000-1549843200@www.diocesidiroma.it
SUMMARY:Settimana della vita nella salute e nella malattia
DESCRIPTION:Settimana della vita nella salute e nella malattia\, a cura del Centro per la pastorale sanitaria e del Centro per la pastorale familiare. \n
URL:https://www.diocesidiroma.it/event/settimana-della-vita-nella-salute-e-nella-malattia/
CATEGORIES:In Diocesi
END:VEVENT
END:VCALENDAR