BEGIN:VCALENDAR
VERSION:2.0
PRODID:-//DIOCESI DI ROMA - ECPv4.6.14.1//NONSGML v1.0//EN
CALSCALE:GREGORIAN
METHOD:PUBLISH
X-WR-CALNAME:DIOCESI DI ROMA
X-ORIGINAL-URL:https://www.diocesidiroma.it
X-WR-CALDESC:Eventi per DIOCESI DI ROMA
BEGIN:VEVENT
DTSTART;VALUE=DATE:20180118
DTEND;VALUE=DATE:20180126
DTSTAMP:20260425T115306
CREATED:20171228T122023Z
LAST-MODIFIED:20171228T122023Z
UID:522-1516233600-1516924799@www.diocesidiroma.it
SUMMARY:Settimana di preghiera per l’unità dei cristiani
DESCRIPTION:
URL:https://www.diocesidiroma.it/event/settimana-di-preghiera-per-lunita-dei-cristiani/
CATEGORIES:In Diocesi
END:VEVENT
END:VCALENDAR