BEGIN:VCALENDAR
VERSION:2.0
PRODID:-//DIOCESI DI ROMA - ECPv4.6.14.1//NONSGML v1.0//EN
CALSCALE:GREGORIAN
METHOD:PUBLISH
X-WR-CALNAME:DIOCESI DI ROMA
X-ORIGINAL-URL:https://www.diocesidiroma.it
X-WR-CALDESC:Eventi per DIOCESI DI ROMA
BEGIN:VEVENT
DTSTART;VALUE=DATE:20240708
DTEND;VALUE=DATE:20240709
DTSTAMP:20260426T015617
CREATED:20240424T142434Z
LAST-MODIFIED:20240424T142434Z
UID:29791-1720396800-1720483199@www.diocesidiroma.it
SUMMARY:Settimana estiva a Soraga\, Val di Fassa per i sacerdoti ordinati nel 1994\, 2004 e 2014
DESCRIPTION:Settimana estiva a Soraga\, Val di Fassa per i sacerdoti ordinati nel 1994\, 2004 e 2014 \n
URL:https://www.diocesidiroma.it/event/settimana-estiva-a-soraga-val-di-fassa-per-i-sacerdoti-ordinati-nel-1994-2004-e-2014/2024-07-08/
CATEGORIES:In Diocesi
END:VEVENT
END:VCALENDAR