BEGIN:VCALENDAR
VERSION:2.0
PRODID:-//DIOCESI DI ROMA - ECPv4.6.14.1//NONSGML v1.0//EN
CALSCALE:GREGORIAN
METHOD:PUBLISH
X-WR-CALNAME:DIOCESI DI ROMA
X-ORIGINAL-URL:https://www.diocesidiroma.it
X-WR-CALDESC:Eventi per DIOCESI DI ROMA
BEGIN:VEVENT
DTSTART;VALUE=DATE:20251214
DTEND;VALUE=DATE:20251215
DTSTAMP:20260422T014929
CREATED:20250911T064338Z
LAST-MODIFIED:20250911T064338Z
UID:37071-1765670400-1765756799@www.diocesidiroma.it
SUMMARY:Simban Gabi\, Novena di Natale della Comunità Filippina\, S. Messa a San Pietro in Vaticano (Uff. Migrantes per la pastorale della mobilità umana)
DESCRIPTION:Simban Gabi\, Novena di Natale della Comunità Filippina\, S. Messa a San Pietro in Vaticano (Uff. Migrantes per la pastorale della mobilità umana) \n
URL:https://www.diocesidiroma.it/event/simban-gabi-novena-di-natale-della-comunita-filippina-s-messa-a-san-pietro-in-vaticano-uff-migrantes-per-la-pastorale-della-mobilita-umana/
CATEGORIES:In Diocesi,Iniziative degli Uffici
END:VEVENT
END:VCALENDAR