BEGIN:VCALENDAR
VERSION:2.0
PRODID:-//DIOCESI DI ROMA - ECPv4.6.14.1//NONSGML v1.0//EN
CALSCALE:GREGORIAN
METHOD:PUBLISH
X-WR-CALNAME:DIOCESI DI ROMA
X-ORIGINAL-URL:https://www.diocesidiroma.it
X-WR-CALDESC:Eventi per DIOCESI DI ROMA
BEGIN:VEVENT
DTSTART;VALUE=DATE:20260118
DTEND;VALUE=DATE:20260119
DTSTAMP:20260423T220815
CREATED:20250911T090418Z
LAST-MODIFIED:20250911T090418Z
UID:37115-1768694400-1768780799@www.diocesidiroma.it
SUMMARY:Sinulog Santo Niño della Comunità Filippina\, S. Messa a Santa Pudenziana (Uff. Migrantes per la pastorale della mobilità umana)
DESCRIPTION:Sinulog Santo Niño della Comunità Filippina\, S. Messa a Santa Pudenziana (Uff. Migrantes per la pastorale della mobilità umana) \n
URL:https://www.diocesidiroma.it/event/sinulog-santo-nino-della-comunita-filippina-s-messa-a-santa-pudenziana-uff-migrantes-per-la-pastorale-della-mobilita-umana/
CATEGORIES:In Diocesi,Iniziative degli Uffici
END:VEVENT
END:VCALENDAR