BEGIN:VCALENDAR
VERSION:2.0
PRODID:-//DIOCESI DI ROMA - ECPv4.6.14.1//NONSGML v1.0//EN
CALSCALE:GREGORIAN
METHOD:PUBLISH
X-WR-CALNAME:DIOCESI DI ROMA
X-ORIGINAL-URL:https://www.diocesidiroma.it
X-WR-CALDESC:Eventi per DIOCESI DI ROMA
BEGIN:VEVENT
DTSTART;VALUE=DATE:20180925
DTEND;VALUE=DATE:20180926
DTSTAMP:20260423T223146
CREATED:20180921T125944Z
LAST-MODIFIED:20180921T125944Z
UID:4727-1537833600-1537919999@www.diocesidiroma.it
SUMMARY:Sono sospese le udienze ai sacerdoti
DESCRIPTION:Sospese le udienze ai sacerdoti \n
URL:https://www.diocesidiroma.it/event/sono-sospese-le-udienze-ai-sacerdoti/
CATEGORIES:NON USARE --- Agenda del Vicario
END:VEVENT
END:VCALENDAR