BEGIN:VCALENDAR
VERSION:2.0
PRODID:-//DIOCESI DI ROMA - ECPv4.6.14.1//NONSGML v1.0//EN
CALSCALE:GREGORIAN
METHOD:PUBLISH
X-WR-CALNAME:DIOCESI DI ROMA
X-ORIGINAL-URL:https://www.diocesidiroma.it
X-WR-CALDESC:Eventi per DIOCESI DI ROMA
BEGIN:VEVENT
DTSTART;VALUE=DATE:20190709
DTEND;VALUE=DATE:20190710
DTSTAMP:20260422T062009
CREATED:20190705T094630Z
LAST-MODIFIED:20190705T094855Z
UID:8012-1562630400-1562716799@www.diocesidiroma.it
SUMMARY:Sono sospese le udienze dei sacerdoti.
DESCRIPTION:Sono sospese le udienze dei sacerdoti. \n
URL:https://www.diocesidiroma.it/event/sono-sospese-le-udienze-dei-sacerdoti-14/
CATEGORIES:NON USARE --- Agenda del Vicario
END:VEVENT
END:VCALENDAR