BEGIN:VCALENDAR
VERSION:2.0
PRODID:-//DIOCESI DI ROMA - ECPv4.6.14.1//NONSGML v1.0//EN
CALSCALE:GREGORIAN
METHOD:PUBLISH
X-WR-CALNAME:DIOCESI DI ROMA
X-ORIGINAL-URL:https://www.diocesidiroma.it
X-WR-CALDESC:Eventi per DIOCESI DI ROMA
BEGIN:VEVENT
DTSTART;TZID=Europe/Rome:20180918T000000
DTEND;TZID=Europe/Rome:20180918T000000
DTSTAMP:20260423T163954
CREATED:20180917T100623Z
LAST-MODIFIED:20180917T100623Z
UID:4607-1537228800-1537228800@www.diocesidiroma.it
SUMMARY:Sono sospese le udienze dei sacerdoti in Vicariato
DESCRIPTION:Sono sospese le udienze dei sacerdoti in Vicariato. \n
URL:https://www.diocesidiroma.it/event/sono-sospese-le-udienze-dei-sacerdoti-in-vicariato-2/
CATEGORIES:NON USARE --- Agenda del Vicario
END:VEVENT
END:VCALENDAR