BEGIN:VCALENDAR
VERSION:2.0
PRODID:-//DIOCESI DI ROMA - ECPv4.6.14.1//NONSGML v1.0//EN
CALSCALE:GREGORIAN
METHOD:PUBLISH
X-WR-CALNAME:DIOCESI DI ROMA
X-ORIGINAL-URL:https://www.diocesidiroma.it
X-WR-CALDESC:Eventi per DIOCESI DI ROMA
BEGIN:VEVENT
DTSTART;VALUE=DATE:20260607
DTEND;VALUE=DATE:20260608
DTSTAMP:20260420T225322
CREATED:20251030T120859Z
LAST-MODIFIED:20251030T120859Z
UID:38286-1780790400-1780876799@www.diocesidiroma.it
SUMMARY:SS. CORPO E SANGUE DI CRISTO
DESCRIPTION:SS. CORPO E SANGUE DI CRISTO \n
URL:https://www.diocesidiroma.it/event/ss-corpo-e-sangue-di-cristo/
CATEGORIES:Ricorrenze
END:VEVENT
END:VCALENDAR