BEGIN:VCALENDAR
VERSION:2.0
PRODID:-//DIOCESI DI ROMA - ECPv4.6.14.1//NONSGML v1.0//EN
CALSCALE:GREGORIAN
METHOD:PUBLISH
X-WR-CALNAME:DIOCESI DI ROMA
X-ORIGINAL-URL:https://www.diocesidiroma.it
X-WR-CALDESC:Eventi per DIOCESI DI ROMA
BEGIN:VEVENT
DTSTART;VALUE=DATE:20180720
DTEND;VALUE=DATE:20180723
DTSTAMP:20260425T180450
CREATED:20171228T143515Z
LAST-MODIFIED:20171228T143515Z
UID:750-1532044800-1532303999@www.diocesidiroma.it
SUMMARY:Stage residenziale per i giovani catechisti fino a 30 anni
DESCRIPTION:
URL:https://www.diocesidiroma.it/event/stage-residenziale-per-i-giovani-catechisti-fino-a-30-anni/
CATEGORIES:Iniziative degli Uffici
END:VEVENT
END:VCALENDAR