BEGIN:VCALENDAR
VERSION:2.0
PRODID:-//DIOCESI DI ROMA - ECPv4.6.14.1//NONSGML v1.0//EN
CALSCALE:GREGORIAN
METHOD:PUBLISH
X-WR-CALNAME:DIOCESI DI ROMA
X-ORIGINAL-URL:https://www.diocesidiroma.it
X-WR-CALDESC:Eventi per DIOCESI DI ROMA
BEGIN:VEVENT
DTSTART;TZID=Europe/Rome:20200219T160000
DTEND;TZID=Europe/Rome:20200219T160000
DTSTAMP:20260424T074540
CREATED:20190925T144204Z
LAST-MODIFIED:20190925T144204Z
UID:8752-1582128000-1582128000@www.diocesidiroma.it
SUMMARY:Tavola rotonda per il 40° della Caritas su "Uno sguardo sul passato: le origini e i testimoni"
DESCRIPTION:Tavola rotonda per il 40° della Caritas su “Uno sguardo sul passato: le origini e i testimoni”\, alla Pontificia Università Lateranense. \n
URL:https://www.diocesidiroma.it/event/tavola-rotonda-per-il-40-della-caritas-su-uno-sguardo-sul-passato-le-origini-e-i-testimoni/
CATEGORIES:Iniziative degli Uffici
END:VEVENT
END:VCALENDAR