BEGIN:VCALENDAR
VERSION:2.0
PRODID:-//DIOCESI DI ROMA - ECPv4.6.14.1//NONSGML v1.0//EN
CALSCALE:GREGORIAN
METHOD:PUBLISH
X-WR-CALNAME:DIOCESI DI ROMA
X-ORIGINAL-URL:https://www.diocesidiroma.it
X-WR-CALDESC:Eventi per DIOCESI DI ROMA
BEGIN:VEVENT
DTSTART;TZID=Europe/Rome:20230419T000000
DTEND;TZID=Europe/Rome:20230419T000000
DTSTAMP:20260421T042334
CREATED:20230330T100911Z
LAST-MODIFIED:20230330T100911Z
UID:25878-1681862400-1681862400@www.diocesidiroma.it
SUMMARY:Tavolo di ascolto per il cammino sinodale (Uff. Past. Universitaria)
DESCRIPTION:Tavolo di ascolto per il cammino sinodale (Uff. Past. Universitaria) \n
URL:https://www.diocesidiroma.it/event/tavolo-di-ascolto-per-il-cammino-sinodale-uff-past-universitaria-4/
CATEGORIES:In Diocesi,Iniziative degli Uffici
END:VEVENT
END:VCALENDAR