BEGIN:VCALENDAR
VERSION:2.0
PRODID:-//DIOCESI DI ROMA - ECPv4.6.14.1//NONSGML v1.0//EN
CALSCALE:GREGORIAN
METHOD:PUBLISH
X-WR-CALNAME:DIOCESI DI ROMA
X-ORIGINAL-URL:https://www.diocesidiroma.it
X-WR-CALDESC:Eventi per DIOCESI DI ROMA
BEGIN:VEVENT
DTSTART;TZID=Europe/Rome:20250929T150000
DTEND;TZID=Europe/Rome:20250929T150000
DTSTAMP:20260424T033828
CREATED:20250926T090001Z
LAST-MODIFIED:20250926T090001Z
UID:37384-1759158000-1759158000@www.diocesidiroma.it
SUMMARY:Tiene una lectio magistralis presso la Sala Zuccari del Senato
DESCRIPTION:Tiene una lectio magistralis presso la Sala Zuccari del Senato \n
URL:https://www.diocesidiroma.it/event/tiene-una-lectio-magistralis-presso-la-sala-zuccari-del-senato/
CATEGORIES:Vicario Generale
END:VEVENT
END:VCALENDAR