BEGIN:VCALENDAR
VERSION:2.0
PRODID:-//DIOCESI DI ROMA - ECPv4.6.14.1//NONSGML v1.0//EN
CALSCALE:GREGORIAN
METHOD:PUBLISH
X-WR-CALNAME:DIOCESI DI ROMA
X-ORIGINAL-URL:https://www.diocesidiroma.it
X-WR-CALDESC:Eventi per DIOCESI DI ROMA
BEGIN:VEVENT
DTSTART;TZID=Europe/Rome:20190806T000000
DTEND;TZID=Europe/Rome:20190806T000000
DTSTAMP:20260422T192527
CREATED:20181023T141148Z
LAST-MODIFIED:20181023T141148Z
UID:5323-1565049600-1565049600@www.diocesidiroma.it
SUMMARY:Trasfigurazione del Signore
DESCRIPTION:Trasfigurazione del Signore. \n
URL:https://www.diocesidiroma.it/event/trasfigurazione-del-signore-2/
CATEGORIES:Ricorrenze
END:VEVENT
END:VCALENDAR