BEGIN:VCALENDAR
VERSION:2.0
PRODID:-//DIOCESI DI ROMA - ECPv4.6.14.1//NONSGML v1.0//EN
CALSCALE:GREGORIAN
METHOD:PUBLISH
X-WR-CALNAME:DIOCESI DI ROMA
X-ORIGINAL-URL:https://www.diocesidiroma.it
X-WR-CALDESC:Eventi per DIOCESI DI ROMA
BEGIN:VEVENT
DTSTART;VALUE=DATE:20201101
DTEND;VALUE=DATE:20201102
DTSTAMP:20260425T102828
CREATED:20200923T151829Z
LAST-MODIFIED:20200923T151837Z
UID:11750-1604188800-1604275199@www.diocesidiroma.it
SUMMARY:Tutti i Santi. Giornata della santificazione universale
DESCRIPTION:Tutti i Santi. Giornata della santificazione universale \n
URL:https://www.diocesidiroma.it/event/tutti-i-santi-giornata-della-santificazione-universale-2/
CATEGORIES:Ricorrenze
END:VEVENT
END:VCALENDAR