BEGIN:VCALENDAR
VERSION:2.0
PRODID:-//DIOCESI DI ROMA - ECPv4.6.14.1//NONSGML v1.0//EN
CALSCALE:GREGORIAN
METHOD:PUBLISH
X-WR-CALNAME:DIOCESI DI ROMA
X-ORIGINAL-URL:https://www.diocesidiroma.it
X-WR-CALDESC:Eventi per DIOCESI DI ROMA
BEGIN:VEVENT
DTSTART;VALUE=DATE:20191101
DTEND;VALUE=DATE:20191102
DTSTAMP:20260424T220640
CREATED:20190917T082852Z
LAST-MODIFIED:20190917T082852Z
UID:8447-1572566400-1572652799@www.diocesidiroma.it
SUMMARY:Tutti i Santi. Giornata della santificazione universale
DESCRIPTION:Tutti i Santi. Giornata della santificazione universale. \n
URL:https://www.diocesidiroma.it/event/tutti-i-santi-giornata-della-santificazione-universale/
CATEGORIES:Ricorrenze
END:VEVENT
END:VCALENDAR