BEGIN:VCALENDAR
VERSION:2.0
PRODID:-//DIOCESI DI ROMA - ECPv4.6.14.1//NONSGML v1.0//EN
CALSCALE:GREGORIAN
METHOD:PUBLISH
X-WR-CALNAME:DIOCESI DI ROMA
X-ORIGINAL-URL:https://www.diocesidiroma.it
X-WR-CALDESC:Eventi per DIOCESI DI ROMA
BEGIN:VEVENT
DTSTART;TZID=Europe/Rome:20231017T110000
DTEND;TZID=Europe/Rome:20231017T110000
DTSTAMP:20260421T093911
CREATED:20231006T072034Z
LAST-MODIFIED:20231006T072034Z
UID:27467-1697540400-1697540400@www.diocesidiroma.it
SUMMARY:"Tutto un altro Mondo. Come la guerra in Ucraina ha stravolto l'ordine globale": incontro per i ministri ordinati con il Dott. Lucio Caracciolo - Palazzo Lateranense (Sala della Conciliazione) (Uff. form. perm. clero e Uff. missionario)
DESCRIPTION:“Tutto un altro Mondo. Come la guerra in Ucraina ha stravolto l’ordine globale”: incontro per i ministri ordinati con il Dott. Lucio Caracciolo – Palazzo Lateranense (Sala della Conciliazione) (Uff. form. perm. clero e Uff. missionario) \n
URL:https://www.diocesidiroma.it/event/tutto-un-altro-mondo-come-la-guerra-in-ucraina-ha-stravolto-lordine-globale-incontro-per-i-ministri-ordinati-con-il-dott-lucio-caracciolo-palazzo-lateranense-sala-della-conciliazione-uff/
CATEGORIES:In Diocesi,Iniziative degli Uffici
END:VEVENT
END:VCALENDAR